BEGIN:VCALENDAR
VERSION:2.0
PRODID:-//193.141.3.69//NONSGML kigkonsult.se iCalcreator 2.20//
CALSCALE:GREGORIAN
METHOD:PUBLISH
X-WR-TIMEZONE:UTC
BEGIN:VEVENT
UID:event1195@Sarará - Samba Percussion aus Regensburg
DTSTAMP:20260421T084008Z
CATEGORIES:Event
DESCRIPTION:One Billion Rising Regensburg\nKategorie: Event\nICS-Link: http
 s://sarara.de/index.php?option=com_jem&view=event&id=1195:one-billion-risi
 ng-regensburg\n
DTSTART:20260214T143000Z
DTEND:20260214T161500Z
LOCATION:Haus der Bayerischen Geschichte - Museum\,Donaumarkt 1\,93047 Rege
 nsburg
SUMMARY:One Billion Rising Regensburg
URL:https://sarara.de/index.php?option=com_jem&view=event&id=1195:one-billi
 on-rising-regensburg
END:VEVENT
END:VCALENDAR
